BEGIN:VCALENDAR
VERSION:2.0
PRODID:-//Tukios.com/
BEGIN:VEVENT
UID:28c1be13-889c-4728-ab2f-f225ee31b07e@www.marinellafuneralhome.com
DTSTAMP:20260425T201245Z
DTSTART:20260502T130000Z
DTEND:20260502T150000Z
SUMMARY:Visitation
DESCRIPTION:
URL:https://www.marinellafuneralhome.com/obituaries/ryan-pelikan
LOCATION:Marinella Funeral Home, Inc. 102 N. Third Street  Hammonton NJ 
	08037
GEO:39.6378378;-74.8032732
END:VEVENT
END:VCALENDAR