BEGIN:VCALENDAR
VERSION:2.0
PRODID:-//Tukios.com/
BEGIN:VEVENT
UID:d67a0ef9-81e6-4676-a1e3-05450b533def@www.marinellafuneralhome.com
DTSTAMP:20260425T200944Z
DTSTART:20260502T150000Z
DTEND:20260503T034500Z
SUMMARY:Celebration of Life
DESCRIPTION:
URL:https://www.marinellafuneralhome.com/obituaries/ryan-pelikan
LOCATION:Marinella Funeral Home, Inc. 102 N. Third Street  Hammonton NJ 
	08037
GEO:39.6378378;-74.8032732
END:VEVENT
END:VCALENDAR