BEGIN:VCALENDAR
VERSION:2.0
PRODID:-//Tukios.com/
BEGIN:VEVENT
UID:03e7d9ec-4356-451e-b34e-721ee485995a@www.marinellafuneralhome.com
DTSTAMP:20260419T172033Z
DTSTART:20260423T160000Z
DTEND:20260423T163000Z
SUMMARY:Funeral Service
DESCRIPTION:
URL:https://www.marinellafuneralhome.com/obituaries/george-cappuccio
LOCATION:Marinella Funeral Home, Inc. 102 N. Third Street  Hammonton NJ 
	08037
GEO:39.6378378;-74.8032732
END:VEVENT
END:VCALENDAR