BEGIN:VCALENDAR
VERSION:2.0
PRODID:-//Tukios.com/
BEGIN:VEVENT
UID:f362650a-2784-40e3-a310-e75e58c646b2@www.marinellafuneralhome.com
DTSTAMP:20260419T171952Z
DTSTART:20260423T170000Z
DTEND:20260423T173000Z
SUMMARY:Burial
DESCRIPTION:
URL:https://www.marinellafuneralhome.com/obituaries/george-cappuccio
LOCATION:Holy Sepulchre Cemetery 248 S. First Rd.  Hammonton NJ 08037
GEO:39.6253478;-74.8084335
END:VEVENT
END:VCALENDAR